BEGIN:VCALENDAR
VERSION:2.0
PRODID:-//Byron Bay Basketball Association - ECPv6.3.5//NONSGML v1.0//EN
CALSCALE:GREGORIAN
METHOD:PUBLISH
X-ORIGINAL-URL:https://byronbasketball.com
X-WR-CALDESC:Events for Byron Bay Basketball Association
REFRESH-INTERVAL;VALUE=DURATION:PT1H
X-Robots-Tag:noindex
X-PUBLISHED-TTL:PT1H
BEGIN:VTIMEZONE
TZID:Australia/Sydney
BEGIN:STANDARD
TZOFFSETFROM:+1100
TZOFFSETTO:+1000
TZNAME:AEST
DTSTART:20240406T160000
END:STANDARD
BEGIN:DAYLIGHT
TZOFFSETFROM:+1000
TZOFFSETTO:+1100
TZNAME:AEDT
DTSTART:20241005T160000
END:DAYLIGHT
END:VTIMEZONE
BEGIN:VEVENT
DTSTART;TZID=Australia/Sydney:20241206T080000
DTEND;TZID=Australia/Sydney:20241208T170000
DTSTAMP:20260420T082957
CREATED:20240327T093604Z
LAST-MODIFIED:20240327T234921Z
UID:1673-1733472000-1733677200@byronbasketball.com
SUMMARY:Bronwyn Vigours Odd Age Tournament
DESCRIPTION:
URL:https://byronbasketball.com/event/bronwyn-vigours-odd-age-tournament/
LOCATION:Coffs Harbour
CATEGORIES:Carnival
END:VEVENT
END:VCALENDAR