BEGIN:VCALENDAR
VERSION:2.0
PRODID:-//Byron Bay Basketball Association - ECPv6.3.5//NONSGML v1.0//EN
CALSCALE:GREGORIAN
METHOD:PUBLISH
X-WR-CALNAME:Byron Bay Basketball Association
X-ORIGINAL-URL:https://byronbasketball.com
X-WR-CALDESC:Events for Byron Bay Basketball Association
REFRESH-INTERVAL;VALUE=DURATION:PT1H
X-Robots-Tag:noindex
X-PUBLISHED-TTL:PT1H
BEGIN:VTIMEZONE
TZID:Australia/Sydney
BEGIN:STANDARD
TZOFFSETFROM:+1100
TZOFFSETTO:+1000
TZNAME:AEST
DTSTART:20240406T160000
END:STANDARD
BEGIN:DAYLIGHT
TZOFFSETFROM:+1000
TZOFFSETTO:+1100
TZNAME:AEDT
DTSTART:20241005T160000
END:DAYLIGHT
END:VTIMEZONE
BEGIN:VEVENT
DTSTART;TZID=Australia/Sydney:20240410T163000
DTEND;TZID=Australia/Sydney:20240410T190000
DTSTAMP:20260420T084205
CREATED:20240328T000150Z
LAST-MODIFIED:20240328T000150Z
UID:1689-1712766600-1712775600@byronbasketball.com
SUMMARY:HSB A&B R8
DESCRIPTION:
URL:https://byronbasketball.com/event/hsb-ab-r8/
LOCATION:Cavanbah Centre\, Byron Bay
CATEGORIES:Domestic HSB-A,Domestic HSB-B
END:VEVENT
BEGIN:VEVENT
DTSTART;TZID=Australia/Sydney:20240406T080000
DTEND;TZID=Australia/Sydney:20240407T170000
DTSTAMP:20260420T084205
CREATED:20240325T175312Z
LAST-MODIFIED:20240327T235105Z
UID:1622-1712390400-1712509200@byronbasketball.com
SUMMARY:NEJL R2.1 @ TAMWORTH (U16/U18)
DESCRIPTION:
URL:https://byronbasketball.com/event/nejl-r2-1-tamworth-16-18/
LOCATION:Tamworth
CATEGORIES:NEJL round
END:VEVENT
BEGIN:VEVENT
DTSTART;TZID=Australia/Sydney:20240403T163000
DTEND;TZID=Australia/Sydney:20240403T190000
DTSTAMP:20260420T084205
CREATED:20240328T000101Z
LAST-MODIFIED:20240328T000101Z
UID:1687-1712161800-1712170800@byronbasketball.com
SUMMARY:HSB A&B R7
DESCRIPTION:
URL:https://byronbasketball.com/event/hsb-ab-r7/
LOCATION:Cavanbah Centre\, Byron Bay
CATEGORIES:Domestic HSB-A,Domestic HSB-B
END:VEVENT
END:VCALENDAR